BEGIN:VCALENDAR
VERSION:2.0
PRODID:-//Acme Widgets\, Inc.//NONSGML ExportToCalendar//EN
CALSCALE:GREGORIAN
BEGIN:VEVENT
DTSTAMP:20260422T090011Z
UID:c53b0cc2-a0c8-41c5-95e5-7cf1a237e11b
DTSTART:20260307T103000
DTEND:20260307T110000
DESCRIPTION:Inspection for 106 / 14 Hilltop Road\, MERRYLANDS NSW 2160
LOCATION:106 / 14 Hilltop Road\, MERRYLANDS NSW 2160
SUMMARY:106 / 14 Hilltop Road\, MERRYLANDS NSW 2160
END:VEVENT
END:VCALENDAR
