BEGIN:VCALENDAR
VERSION:2.0
PRODID:-//Acme Widgets\, Inc.//NONSGML ExportToCalendar//EN
CALSCALE:GREGORIAN
BEGIN:VEVENT
DTSTAMP:20260422T085307Z
UID:2ef1c7f6-4c87-46d9-b6df-f5e4dca02b19
DTSTART:20260307T090000
DTEND:20260307T093000
DESCRIPTION:Inspection for 4-6 Junee Crescent\, KINGSGROVE NSW 2208
LOCATION:4-6 Junee Crescent\, KINGSGROVE NSW 2208
SUMMARY:4-6 Junee Crescent\, KINGSGROVE NSW 2208
END:VEVENT
END:VCALENDAR
